BEGIN:VCALENDAR
VERSION:2.0
PRODID:-//Autism Cares Foundation - ECPv6.15.20//NONSGML v1.0//EN
CALSCALE:GREGORIAN
METHOD:PUBLISH
X-WR-CALNAME:Autism Cares Foundation
X-ORIGINAL-URL:https://autismcaresfoundation.org
X-WR-CALDESC:Events for Autism Cares Foundation
REFRESH-INTERVAL;VALUE=DURATION:PT1H
X-Robots-Tag:noindex
X-PUBLISHED-TTL:PT1H
BEGIN:VTIMEZONE
TZID:America/New_York
BEGIN:DAYLIGHT
TZOFFSETFROM:-0500
TZOFFSETTO:-0400
TZNAME:EDT
DTSTART:20250309T070000
END:DAYLIGHT
BEGIN:STANDARD
TZOFFSETFROM:-0400
TZOFFSETTO:-0500
TZNAME:EST
DTSTART:20251102T060000
END:STANDARD
BEGIN:DAYLIGHT
TZOFFSETFROM:-0500
TZOFFSETTO:-0400
TZNAME:EDT
DTSTART:20260308T070000
END:DAYLIGHT
BEGIN:STANDARD
TZOFFSETFROM:-0400
TZOFFSETTO:-0500
TZNAME:EST
DTSTART:20261101T060000
END:STANDARD
BEGIN:DAYLIGHT
TZOFFSETFROM:-0500
TZOFFSETTO:-0400
TZNAME:EDT
DTSTART:20270314T070000
END:DAYLIGHT
BEGIN:STANDARD
TZOFFSETFROM:-0400
TZOFFSETTO:-0500
TZNAME:EST
DTSTART:20271107T060000
END:STANDARD
END:VTIMEZONE
BEGIN:VEVENT
DTSTART;TZID=America/New_York:20260406T190000
DTEND;TZID=America/New_York:20260406T200000
DTSTAMP:20260416T045856
CREATED:20260306T134447Z
LAST-MODIFIED:20260310T170817Z
UID:5939-1775502000-1775505600@autismcaresfoundation.org
SUMMARY:Look Who's Dancing
DESCRIPTION:NEW LOCATION! JOIN US AT NEWTOWN CROSSING COMMUNITY CHURCH \n80 Lower Silver Lake Rd \nNewtown\, Pa 18940 \nOur dancing ladies are in the house for exercise and dancing to your favorites. Open to individuals with disabilities and their siblings of all ages. \nClick Here: https://secure.qgiv.com/for/acfactivities/event/lookwhosdancingapril2026/ \n 
URL:https://autismcaresfoundation.org/event/look-whos-dancing-28/
LOCATION:newtown crossing community\, 80 lower silver lake road\, Newtown\, 18940\, United States
CATEGORIES:Bucks Chapter
END:VEVENT
END:VCALENDAR