BEGIN:VCALENDAR
VERSION:2.0
PRODID:-//Autism Cares Foundation - ECPv6.15.20//NONSGML v1.0//EN
CALSCALE:GREGORIAN
METHOD:PUBLISH
X-ORIGINAL-URL:https://autismcaresfoundation.org
X-WR-CALDESC:Events for Autism Cares Foundation
REFRESH-INTERVAL;VALUE=DURATION:PT1H
X-Robots-Tag:noindex
X-PUBLISHED-TTL:PT1H
BEGIN:VTIMEZONE
TZID:America/New_York
BEGIN:DAYLIGHT
TZOFFSETFROM:-0500
TZOFFSETTO:-0400
TZNAME:EDT
DTSTART:20250309T070000
END:DAYLIGHT
BEGIN:STANDARD
TZOFFSETFROM:-0400
TZOFFSETTO:-0500
TZNAME:EST
DTSTART:20251102T060000
END:STANDARD
BEGIN:DAYLIGHT
TZOFFSETFROM:-0500
TZOFFSETTO:-0400
TZNAME:EDT
DTSTART:20260308T070000
END:DAYLIGHT
BEGIN:STANDARD
TZOFFSETFROM:-0400
TZOFFSETTO:-0500
TZNAME:EST
DTSTART:20261101T060000
END:STANDARD
BEGIN:DAYLIGHT
TZOFFSETFROM:-0500
TZOFFSETTO:-0400
TZNAME:EDT
DTSTART:20270314T070000
END:DAYLIGHT
BEGIN:STANDARD
TZOFFSETFROM:-0400
TZOFFSETTO:-0500
TZNAME:EST
DTSTART:20271107T060000
END:STANDARD
END:VTIMEZONE
BEGIN:VEVENT
DTSTART;TZID=America/New_York:20260412T130000
DTEND;TZID=America/New_York:20260412T140000
DTSTAMP:20260416T070150
CREATED:20260308T152724Z
LAST-MODIFIED:20260310T170959Z
UID:5976-1775998800-1776002400@autismcaresfoundation.org
SUMMARY:Sunday Yoga for 18+
DESCRIPTION:Join us for a fun Yoga class where all levels and abilities are encouraged. Open to individuals over age 18 with disabilities. \nTo ensure a respectful\, comfortable\, and distraction-free environment for all participants\, we kindly ask that all students wear yoga-appropriate attire that provides adequate coverage during movement and poses. \nRegistration: https://secure.qgiv.com/for/acfactivities/event/sundayyogaapril2026/ \n  \n  \nPlease note: Parent/Caregiver fees are not event tickets. They are registration fees designed to help with event costs\, ticketing software and more. These fees do not grant access to participate in the event activities or programs. Parents/caretakers are for onsite assistance. \n 
URL:https://autismcaresfoundation.org/event/sunday-yoga-for-18-4/
LOCATION:Airmid Wellness Studio\, 1260 Old York Road\, Warminster\, PA\, 18974\, United States
CATEGORIES:Bucks Chapter
END:VEVENT
END:VCALENDAR