BEGIN:VCALENDAR
VERSION:2.0
PRODID:-//Autism Cares Foundation - ECPv6.15.20//NONSGML v1.0//EN
CALSCALE:GREGORIAN
METHOD:PUBLISH
X-ORIGINAL-URL:https://autismcaresfoundation.org
X-WR-CALDESC:Events for Autism Cares Foundation
REFRESH-INTERVAL;VALUE=DURATION:PT1H
X-Robots-Tag:noindex
X-PUBLISHED-TTL:PT1H
BEGIN:VTIMEZONE
TZID:America/New_York
BEGIN:DAYLIGHT
TZOFFSETFROM:-0500
TZOFFSETTO:-0400
TZNAME:EDT
DTSTART:20250309T070000
END:DAYLIGHT
BEGIN:STANDARD
TZOFFSETFROM:-0400
TZOFFSETTO:-0500
TZNAME:EST
DTSTART:20251102T060000
END:STANDARD
BEGIN:DAYLIGHT
TZOFFSETFROM:-0500
TZOFFSETTO:-0400
TZNAME:EDT
DTSTART:20260308T070000
END:DAYLIGHT
BEGIN:STANDARD
TZOFFSETFROM:-0400
TZOFFSETTO:-0500
TZNAME:EST
DTSTART:20261101T060000
END:STANDARD
BEGIN:DAYLIGHT
TZOFFSETFROM:-0500
TZOFFSETTO:-0400
TZNAME:EDT
DTSTART:20270314T070000
END:DAYLIGHT
BEGIN:STANDARD
TZOFFSETFROM:-0400
TZOFFSETTO:-0500
TZNAME:EST
DTSTART:20271107T060000
END:STANDARD
END:VTIMEZONE
BEGIN:VEVENT
DTSTART;TZID=America/New_York:20260419T093000
DTEND;TZID=America/New_York:20260419T123000
DTSTAMP:20260416T063552
CREATED:20260306T135409Z
LAST-MODIFIED:20260310T174046Z
UID:5956-1776591000-1776601800@autismcaresfoundation.org
SUMMARY:Sensory Friendly Movie " The Super Mario Galaxy Movie"- All ages\, Rated PG\, Parental Guidance suggested.
DESCRIPTION:This registration is open to all ages. This movie is rated PG for action/mild violence\, rude humor and language. \nJoin us for another movie in the morning at Penn Cinema!  \nMovie showing starts at 10:00 \nWe look forward to hosting your family for a Sensory Friendly Movie. Autism Cares Foundation will have the entire theater\, to ensure an atmosphere of acceptance\, inclusion and a sensory friendly experience. \n  \n \n*Caregivers/Parents MUST remain throughout the event* \nhttps://secure.qgiv.com/for/acfactivities/event/sensoryfriendlymovieapril2026/
URL:https://autismcaresfoundation.org/event/sensory-friendly-movie-the-super-mario-galaxy-movie-all-ages-rated-pg-parental-guidance-suggested/
LOCATION:Penn Cinema Huntington Valley\, 2068 County Line Road\, Huntington Valley\, PA
CATEGORIES:Bucks Chapter
END:VEVENT
END:VCALENDAR