BEGIN:VCALENDAR
VERSION:2.0
PRODID:-//Autism Cares Foundation - ECPv6.15.20//NONSGML v1.0//EN
CALSCALE:GREGORIAN
METHOD:PUBLISH
X-WR-CALNAME:Autism Cares Foundation
X-ORIGINAL-URL:https://autismcaresfoundation.org
X-WR-CALDESC:Events for Autism Cares Foundation
REFRESH-INTERVAL;VALUE=DURATION:PT1H
X-Robots-Tag:noindex
X-PUBLISHED-TTL:PT1H
BEGIN:VTIMEZONE
TZID:America/New_York
BEGIN:DAYLIGHT
TZOFFSETFROM:-0500
TZOFFSETTO:-0400
TZNAME:EDT
DTSTART:20250309T070000
END:DAYLIGHT
BEGIN:STANDARD
TZOFFSETFROM:-0400
TZOFFSETTO:-0500
TZNAME:EST
DTSTART:20251102T060000
END:STANDARD
BEGIN:DAYLIGHT
TZOFFSETFROM:-0500
TZOFFSETTO:-0400
TZNAME:EDT
DTSTART:20260308T070000
END:DAYLIGHT
BEGIN:STANDARD
TZOFFSETFROM:-0400
TZOFFSETTO:-0500
TZNAME:EST
DTSTART:20261101T060000
END:STANDARD
BEGIN:DAYLIGHT
TZOFFSETFROM:-0500
TZOFFSETTO:-0400
TZNAME:EDT
DTSTART:20270314T070000
END:DAYLIGHT
BEGIN:STANDARD
TZOFFSETFROM:-0400
TZOFFSETTO:-0500
TZNAME:EST
DTSTART:20271107T060000
END:STANDARD
END:VTIMEZONE
BEGIN:VEVENT
DTSTART;TZID=America/New_York:20260425T130000
DTEND;TZID=America/New_York:20260425T140000
DTSTAMP:20260416T045347
CREATED:20260306T135622Z
LAST-MODIFIED:20260310T174635Z
UID:5962-1777122000-1777125600@autismcaresfoundation.org
SUMMARY:Action Karate Class in Newtown Ages 13+
DESCRIPTION:Join us for some Karate lessons at the Newtown Action Karate! \nRegistration: https://secure.qgiv.com/for/acfactivities/event/actionkarateapril2026/ \nPlease note: Parent/Caregiver fees are not event tickets. They are registration fees designed to help with event costs\, ticketing software and more. These fees do not grant access to participate in the event activities or programs. Parents/caretakers are for onsite assistance. \n  \n\nAges 13 and up \n*THE STUDIO IS LOCATED IN THE BACK OF THE OFFICE COMPLEX*
URL:https://autismcaresfoundation.org/event/action-karate-class-in-newtown-ages-13-19/
LOCATION:Action Karate – Newtown\, 121 Friends Ln Suite 201A\, Newtown\, PA\, 18940
CATEGORIES:Bucks Chapter
END:VEVENT
BEGIN:VEVENT
DTSTART;TZID=America/New_York:20260425T133000
DTEND;TZID=America/New_York:20260425T143000
DTSTAMP:20260416T045347
CREATED:20260324T000427Z
LAST-MODIFIED:20260324T000427Z
UID:6080-1777123800-1777127400@autismcaresfoundation.org
SUMMARY:Creative Movement: ages 5-8
DESCRIPTION:Creative Movement dance is imaginative movement that fosters motor skills\, creativity\, and confidence in all ability levels\, often used for young children but accessible to all. \nVision Dance Center provides a vibrant\, inclusive\, and fun place for our students to build community through the love of dance. Through our innovative artistic team\, students will be encouraged and supported through a carefully cultivated curriculum designed with both learning and holistic development in mind.  Our focus is to provide students with a wonderful experience where they can explore their love of dance and to embody our values both in and out of the studio. ​ \nRegister: https://secure.qgiv.com/for/acfactivities-montco/event/creativemovement/
URL:https://autismcaresfoundation.org/event/creative-movement-ages-5-8/
LOCATION:Vision Dance Center\, 411 Doylestown Rd H-1\, Montgomereyville\, PA\, 18936\, United States
CATEGORIES:Montgomery Chapter
END:VEVENT
END:VCALENDAR