BEGIN:VCALENDAR
VERSION:2.0
PRODID:-//Autism Cares Foundation - ECPv6.15.20//NONSGML v1.0//EN
CALSCALE:GREGORIAN
METHOD:PUBLISH
X-ORIGINAL-URL:https://autismcaresfoundation.org
X-WR-CALDESC:Events for Autism Cares Foundation
REFRESH-INTERVAL;VALUE=DURATION:PT1H
X-Robots-Tag:noindex
X-PUBLISHED-TTL:PT1H
BEGIN:VTIMEZONE
TZID:America/New_York
BEGIN:DAYLIGHT
TZOFFSETFROM:-0500
TZOFFSETTO:-0400
TZNAME:EDT
DTSTART:20250309T070000
END:DAYLIGHT
BEGIN:STANDARD
TZOFFSETFROM:-0400
TZOFFSETTO:-0500
TZNAME:EST
DTSTART:20251102T060000
END:STANDARD
BEGIN:DAYLIGHT
TZOFFSETFROM:-0500
TZOFFSETTO:-0400
TZNAME:EDT
DTSTART:20260308T070000
END:DAYLIGHT
BEGIN:STANDARD
TZOFFSETFROM:-0400
TZOFFSETTO:-0500
TZNAME:EST
DTSTART:20261101T060000
END:STANDARD
BEGIN:DAYLIGHT
TZOFFSETFROM:-0500
TZOFFSETTO:-0400
TZNAME:EDT
DTSTART:20270314T070000
END:DAYLIGHT
BEGIN:STANDARD
TZOFFSETFROM:-0400
TZOFFSETTO:-0500
TZNAME:EST
DTSTART:20271107T060000
END:STANDARD
END:VTIMEZONE
BEGIN:VEVENT
DTSTART;TZID=America/New_York:20260427T100000
DTEND;TZID=America/New_York:20260427T110000
DTSTAMP:20260416T120045
CREATED:20260306T135816Z
LAST-MODIFIED:20260310T174903Z
UID:5964-1777284000-1777287600@autismcaresfoundation.org
SUMMARY:Top Hat Dance Studio Classes 18+
DESCRIPTION:This registration is only open to ages 18+. \nWith over a decade of experience and dedication to helping the special needs community\, Top Hat Dance Studio is one of the best Studios in the game. That’s why we’re so excited to announce a new monthly daytime activity with them! Starting this month join us for some dance classes that combine fun with exercise and socialization! \n*Caregivers/Parents MUST remain throughout the event* \n\n\nRegistration: https://secure.qgiv.com/for/acfactivities/event/tophatstudiodanceclassesapril2026/\n\n\nPlease note: Parent/Caregiver fees are not event tickets. They are registration fees designed to help with event costs\, ticketing software and more. These fees do not grant access to participate in the event activities or programs. Parents/caretakers are for onsite assistance.
URL:https://autismcaresfoundation.org/event/top-hat-dance-studio-classes-18-15/
LOCATION:Top Hat Dance Studio\, 10771 Bustleton Avenue\, Philadelphia\, PA\, 19116\, United States
CATEGORIES:Bucks Chapter
END:VEVENT
END:VCALENDAR