BEGIN:VCALENDAR
VERSION:2.0
PRODID:-//Autism Cares Foundation - ECPv6.15.20//NONSGML v1.0//EN
CALSCALE:GREGORIAN
METHOD:PUBLISH
X-WR-CALNAME:Autism Cares Foundation
X-ORIGINAL-URL:https://autismcaresfoundation.org
X-WR-CALDESC:Events for Autism Cares Foundation
REFRESH-INTERVAL;VALUE=DURATION:PT1H
X-Robots-Tag:noindex
X-PUBLISHED-TTL:PT1H
BEGIN:VTIMEZONE
TZID:America/New_York
BEGIN:DAYLIGHT
TZOFFSETFROM:-0500
TZOFFSETTO:-0400
TZNAME:EDT
DTSTART:20250309T070000
END:DAYLIGHT
BEGIN:STANDARD
TZOFFSETFROM:-0400
TZOFFSETTO:-0500
TZNAME:EST
DTSTART:20251102T060000
END:STANDARD
BEGIN:DAYLIGHT
TZOFFSETFROM:-0500
TZOFFSETTO:-0400
TZNAME:EDT
DTSTART:20260308T070000
END:DAYLIGHT
BEGIN:STANDARD
TZOFFSETFROM:-0400
TZOFFSETTO:-0500
TZNAME:EST
DTSTART:20261101T060000
END:STANDARD
BEGIN:DAYLIGHT
TZOFFSETFROM:-0500
TZOFFSETTO:-0400
TZNAME:EDT
DTSTART:20270314T070000
END:DAYLIGHT
BEGIN:STANDARD
TZOFFSETFROM:-0400
TZOFFSETTO:-0500
TZNAME:EST
DTSTART:20271107T060000
END:STANDARD
END:VTIMEZONE
BEGIN:VEVENT
DTSTART;TZID=America/New_York:20260501T183000
DTEND;TZID=America/New_York:20260501T220000
DTSTAMP:20260416T184306
CREATED:20260407T220254Z
LAST-MODIFIED:20260408T233216Z
UID:6091-1777660200-1777672800@autismcaresfoundation.org
SUMMARY:ACF Formal 2024 a Mardi Gras Celebration
DESCRIPTION:About This Event\n\nThis registration is open to ages 18+. \nThis year’s formal will have a Mardi Gras feel. Enjoy an evening of dining and dancing the night away and immortalize the night with a professional photo shoot! \nFormal attire encouraged \n*Caregivers/Parents MUST remain throughout the event. You are encouraged to bring water!* \n\nRegistration: https://secure.qgiv.com/for/acfactivities/event/2026formal/
URL:https://autismcaresfoundation.org/event/acf-formal-2024-an-evening-in-paris-ages-21/
LOCATION:Philmont Country Club\, 301 Tomlinson Rd\, Huntingdon Valley\, 19006\, United States
CATEGORIES:Bucks and Montgomery Chapters
END:VEVENT
END:VCALENDAR