BEGIN:VCALENDAR
VERSION:2.0
PRODID:-//Autism Cares Foundation - ECPv6.15.20//NONSGML v1.0//EN
CALSCALE:GREGORIAN
METHOD:PUBLISH
X-WR-CALNAME:Autism Cares Foundation
X-ORIGINAL-URL:https://autismcaresfoundation.org
X-WR-CALDESC:Events for Autism Cares Foundation
REFRESH-INTERVAL;VALUE=DURATION:PT1H
X-Robots-Tag:noindex
X-PUBLISHED-TTL:PT1H
BEGIN:VTIMEZONE
TZID:America/New_York
BEGIN:DAYLIGHT
TZOFFSETFROM:-0500
TZOFFSETTO:-0400
TZNAME:EDT
DTSTART:20250309T070000
END:DAYLIGHT
BEGIN:STANDARD
TZOFFSETFROM:-0400
TZOFFSETTO:-0500
TZNAME:EST
DTSTART:20251102T060000
END:STANDARD
BEGIN:DAYLIGHT
TZOFFSETFROM:-0500
TZOFFSETTO:-0400
TZNAME:EDT
DTSTART:20260308T070000
END:DAYLIGHT
BEGIN:STANDARD
TZOFFSETFROM:-0400
TZOFFSETTO:-0500
TZNAME:EST
DTSTART:20261101T060000
END:STANDARD
BEGIN:DAYLIGHT
TZOFFSETFROM:-0500
TZOFFSETTO:-0400
TZNAME:EDT
DTSTART:20270314T070000
END:DAYLIGHT
BEGIN:STANDARD
TZOFFSETFROM:-0400
TZOFFSETTO:-0500
TZNAME:EST
DTSTART:20271107T060000
END:STANDARD
END:VTIMEZONE
BEGIN:VEVENT
DTSTART;TZID=America/New_York:20260415T154500
DTEND;TZID=America/New_York:20260415T164500
DTSTAMP:20260415T224515
CREATED:20260306T134923Z
LAST-MODIFIED:20260310T171311Z
UID:5945-1776267900-1776271500@autismcaresfoundation.org
SUMMARY:CrossFit: Ages 13+
DESCRIPTION:This registration is open to ages 13+. \nRun by well versed instructors\, anyone of any experience level is welcome to join and partake in this intense but supportive\, inclusive\, and welcoming workout session! \nClick Here: https://secure.qgiv.com/for/acfactivities/event/crossfitdoylestownapril2026/ \n*Caregivers/Parents MUST remain throughout the event* \nPlease note: Parent/Caregiver fees are not event tickets. They are registration fees designed to help with event costs\, ticketing software and more. These fees do not grant access to participate in the event activities or programs. Parents/caretakers are for onsite assistance.
URL:https://autismcaresfoundation.org/event/crossfit-ages-13-17/
LOCATION:Crossfit Summa\, 4099 Landisville Rd\, Doylestown\, 18902\, United States
CATEGORIES:Bucks Chapter
END:VEVENT
BEGIN:VEVENT
DTSTART;TZID=America/New_York:20260415T190000
DTEND;TZID=America/New_York:20260415T200000
DTSTAMP:20260415T224515
CREATED:20260306T135059Z
LAST-MODIFIED:20260310T171420Z
UID:5947-1776279600-1776283200@autismcaresfoundation.org
SUMMARY:Art with Anita - Ages 13+
DESCRIPTION:This registration is open to ages 13+. \nAnita’s artistic expertise has been guiding the brushes of ACF participants for years now. This is a popular activity with constantly changing themes to keep all partaking interested and involved. See why Art with Anita is all the rage and sign up now so you don’t miss out on a single class! \n*Caregivers/Parents MUST remain throughout the event* \nRegistration: https://secure.qgiv.com/for/acfactivities/event/april2026/
URL:https://autismcaresfoundation.org/event/art-with-anita-ages-13-19/
LOCATION:Huntington Valley Library\, 625 Red Lion Rd\, Huntington Valley\, PA\, 19006
CATEGORIES:Bucks Chapter
END:VEVENT
END:VCALENDAR